BEGIN:VCALENDAR
VERSION:2.0
PRODID:-//Bygdefolket.no - ECPv6.15.20//NONSGML v1.0//EN
CALSCALE:GREGORIAN
METHOD:PUBLISH
X-ORIGINAL-URL:https://bygdefolket.no
X-WR-CALDESC:Arrangement for Bygdefolket.no
REFRESH-INTERVAL;VALUE=DURATION:PT1H
X-Robots-Tag:noindex
X-PUBLISHED-TTL:PT1H
BEGIN:VTIMEZONE
TZID:UTC
BEGIN:STANDARD
TZOFFSETFROM:+0000
TZOFFSETTO:+0000
TZNAME:UTC
DTSTART:20240101T000000
END:STANDARD
END:VTIMEZONE
BEGIN:VEVENT
DTSTART;TZID=UTC:20250406T100000
DTEND;TZID=UTC:20250406T160000
DTSTAMP:20260425T210626
CREATED:20250331T175911Z
LAST-MODIFIED:20250331T175911Z
UID:21046-1743933600-1743955200@bygdefolket.no
SUMMARY:Aktiv søndag på Kokkvollen
DESCRIPTION:Velkommen til en trivelig søndag ved Aursunden!\nArrangørene byr på følgende program:\n– Sportsgudstjeneste kl 11 på Aftenrøden Kokkvollen med påfølgende årsmøte i Brekken menighetsråd.\n– Skispor inn til Saubua fra Kokkvollen. I Saubua blir det salg av kaffe og kake fra kl 10-14.\n– Middagssalg på Aftenrøden fra kl 13\n– Dagen avsluttes med trekning av Sanitetsforeningas vinterlotteri.\n\n\nArrangør: Aursund Sanitetsforening\, Brekken menighetsråd og Brekken IL\, ski & trim.
URL:https://bygdefolket.no/single-post-name/aktiv-sondag-pa-kokkvollen/
LOCATION:Aftenrøden Kokkvollen
CATEGORIES:Dagens løype,Gudstjenster
ATTACH;FMTTYPE=image/jpeg:https://bygdefolket.no/wp-content/uploads/2021/05/Bilde-5-Saubua-scaled-e1621450948677.jpg
END:VEVENT
BEGIN:VEVENT
DTSTART;TZID=UTC:20250406T110000
DTEND;TZID=UTC:20250406T130000
DTSTAMP:20260425T210626
CREATED:20250201T125206Z
LAST-MODIFIED:20250201T130943Z
UID:20509-1743937200-1743944400@bygdefolket.no
SUMMARY:Gudstjeneste Aftenrøden Kokkvollen
DESCRIPTION:Velkommen til gudstjeneste på Aftenrøden\, Kokkvollen og den tradisjonelle sportsgudstjenesten og menighetsrådets årsmøte. \nDato: 6. april kl. 11.00 \nVelkommen hilser Brekken menighetsråd.
URL:https://bygdefolket.no/single-post-name/gudstjeneste-aftenroden-kokkvollen/
LOCATION:Aftenrøden Kokkvollen
CATEGORIES:Gudstjenster
ATTACH;FMTTYPE=image/jpeg:https://bygdefolket.no/wp-content/uploads/2022/06/P6171974.jpg
END:VEVENT
END:VCALENDAR