BEGIN:VCALENDAR
VERSION:2.0
PRODID:-//Bygdefolket.no - ECPv6.15.20//NONSGML v1.0//EN
CALSCALE:GREGORIAN
METHOD:PUBLISH
X-ORIGINAL-URL:https://bygdefolket.no
X-WR-CALDESC:Arrangement for Bygdefolket.no
REFRESH-INTERVAL;VALUE=DURATION:PT1H
X-Robots-Tag:noindex
X-PUBLISHED-TTL:PT1H
BEGIN:VTIMEZONE
TZID:UTC
BEGIN:STANDARD
TZOFFSETFROM:+0000
TZOFFSETTO:+0000
TZNAME:UTC
DTSTART:20240101T000000
END:STANDARD
END:VTIMEZONE
BEGIN:VEVENT
DTSTART;TZID=UTC:20250605T180000
DTEND;TZID=UTC:20250605T190000
DTSTAMP:20260425T164100
CREATED:20250201T132040Z
LAST-MODIFIED:20250201T132806Z
UID:20517-1749146400-1749150000@bygdefolket.no
SUMMARY:Gudstjeneste i Brekken kirke
DESCRIPTION:Velkommen til gudstjeneste i brekken kirke 5. juni kl. 18.00. \nHilsen Brekken menighetsråd.
URL:https://bygdefolket.no/single-post-name/gudstjeneste-i-brekken-kirke-2/
LOCATION:Brekken kirke\, Brekken kirke\, Brekken\, Røros\, 7370\, Norge
CATEGORIES:Gudstjenster
ATTACH;FMTTYPE=image/jpeg:https://bygdefolket.no/wp-content/uploads/2023/05/DSC_0165.jpg
END:VEVENT
BEGIN:VEVENT
DTSTART;TZID=UTC:20250608T110000
DTEND;TZID=UTC:20250608T120000
DTSTAMP:20260425T164100
CREATED:20250201T132639Z
LAST-MODIFIED:20250201T132639Z
UID:20519-1749380400-1749384000@bygdefolket.no
SUMMARY:Gudstjeneste i Brekken kirke
DESCRIPTION:Velkommen til gudstjeneste i Brekken kirke 8. juni kl. 11.00. \nHilsen Brekken menighetsråd. \n 
URL:https://bygdefolket.no/single-post-name/gudstjeneste-i-brekken-kirke-3/
LOCATION:Brekken kirke\, Brekken kirke\, Brekken\, Røros\, 7370\, Norge
CATEGORIES:Gudstjenster
ATTACH;FMTTYPE=image/jpeg:https://bygdefolket.no/wp-content/uploads/2023/05/DSC_0165.jpg
END:VEVENT
END:VCALENDAR