BEGIN:VCALENDAR
VERSION:2.0
PRODID:-//Bygdefolket.no - ECPv6.15.20//NONSGML v1.0//EN
CALSCALE:GREGORIAN
METHOD:PUBLISH
X-ORIGINAL-URL:https://bygdefolket.no
X-WR-CALDESC:Arrangement for Bygdefolket.no
REFRESH-INTERVAL;VALUE=DURATION:PT1H
X-Robots-Tag:noindex
X-PUBLISHED-TTL:PT1H
BEGIN:VTIMEZONE
TZID:UTC
BEGIN:STANDARD
TZOFFSETFROM:+0000
TZOFFSETTO:+0000
TZNAME:UTC
DTSTART:20240101T000000
END:STANDARD
END:VTIMEZONE
BEGIN:VEVENT
DTSTART;TZID=UTC:20250517T124500
DTEND;TZID=UTC:20250517T140000
DTSTAMP:20260425T180534
CREATED:20250201T131516Z
LAST-MODIFIED:20250515T083235Z
UID:20514-1747485900-1747490400@bygdefolket.no
SUMMARY:Gudstjeneste i Brekken kirke
DESCRIPTION:Velkommen til gudstjeneste i Brekken kirke 17. mai kl. 12.45. \nHilsen Brekken menighetsråd. \nFoto: Marit Manfredsdotter
URL:https://bygdefolket.no/single-post-name/gudstjeneste-i-brekken-kirke/
LOCATION:Brekken kirke\, Brekken kirke\, Brekken\, Røros\, 7370\, Norge
CATEGORIES:Gudstjenster
ATTACH;FMTTYPE=image/jpeg:https://bygdefolket.no/wp-content/uploads/2024/05/P1010293.jpg
END:VEVENT
END:VCALENDAR