BEGIN:VCALENDAR
VERSION:2.0
PRODID:-//Bygdefolket.no - ECPv6.15.20//NONSGML v1.0//EN
CALSCALE:GREGORIAN
METHOD:PUBLISH
X-ORIGINAL-URL:https://bygdefolket.no
X-WR-CALDESC:Arrangement for Bygdefolket.no
REFRESH-INTERVAL;VALUE=DURATION:PT1H
X-Robots-Tag:noindex
X-PUBLISHED-TTL:PT1H
BEGIN:VTIMEZONE
TZID:UTC
BEGIN:STANDARD
TZOFFSETFROM:+0000
TZOFFSETTO:+0000
TZNAME:UTC
DTSTART:20240101T000000
END:STANDARD
END:VTIMEZONE
BEGIN:VEVENT
DTSTART;TZID=UTC:20250512T193000
DTEND;TZID=UTC:20250512T210000
DTSTAMP:20260426T031754
CREATED:20250506T170749Z
LAST-MODIFIED:20250506T170831Z
UID:21120-1747078200-1747083600@bygdefolket.no
SUMMARY:Gubbtrim
DESCRIPTION:Dette er for menn i alle aldre som ønsker å være aktiv og sosial.\nHelt lavterskel. \nTidspunkt: Mandager mellom 19.30-21.00\, i gymsalen på skolen. \nVelkommen!
URL:https://bygdefolket.no/single-post-name/gubbtrim-5/
LOCATION:Brekken skole\, Borgosveien 2\, Brekkebygd
CATEGORIES:Gubbtrim
ATTACH;FMTTYPE=image/png:https://bygdefolket.no/wp-content/uploads/2024/11/Gubbtrim-Brekken.-Foto-Jon-Albert-Lien-Rokke.png
END:VEVENT
END:VCALENDAR