BEGIN:VCALENDAR
VERSION:2.0
PRODID:-//Bygdefolket.no - ECPv6.15.20//NONSGML v1.0//EN
CALSCALE:GREGORIAN
METHOD:PUBLISH
X-ORIGINAL-URL:https://bygdefolket.no
X-WR-CALDESC:Arrangement for Bygdefolket.no
REFRESH-INTERVAL;VALUE=DURATION:PT1H
X-Robots-Tag:noindex
X-PUBLISHED-TTL:PT1H
BEGIN:VTIMEZONE
TZID:UTC
BEGIN:STANDARD
TZOFFSETFROM:+0000
TZOFFSETTO:+0000
TZNAME:UTC
DTSTART:20250101T000000
END:STANDARD
END:VTIMEZONE
BEGIN:VEVENT
DTSTART;TZID=UTC:20260121T190000
DTEND;TZID=UTC:20260121T200000
DTSTAMP:20260424T142213
CREATED:20260119T192553Z
LAST-MODIFIED:20260119T192553Z
UID:22633-1769022000-1769025600@bygdefolket.no
SUMMARY:Dametrim
DESCRIPTION:Hver onsdag mellom 19 og 20\, møtes en gjeng spreke damer på trening i gymsalen ved Brekken oppvekst- og lokalsenter. \n\n\n\nPå dametrimmen i gymsalen er damer i alle aldre velkomne. Den yngste er i tenårene\, og de eldste er over pensjonsalder. Felles for alle er godt humør og treningsglede!\nDet er ingen påmelding så det er bare å møte opp. Her blir du tatt imot med åpne armer. Ta med drikkeflaske og ullsokker (!) Treningsmatte og noe tungt å løfte på får du lånt\, dersom du ikke har det selv
URL:https://bygdefolket.no/single-post-name/dametrim-86/
LOCATION:Brekken skole\, Borgosveien 2\, Brekkebygd
CATEGORIES:Dametrim
ATTACH;FMTTYPE=image/jpeg:https://bygdefolket.no/wp-content/uploads/2025/08/Dametrim.-Foto-Nina-Konow.jpeg
END:VEVENT
BEGIN:VEVENT
DTSTART;TZID=UTC:20260121T190000
DTEND;TZID=UTC:20260121T200000
DTSTAMP:20260424T142213
CREATED:20260119T192553Z
LAST-MODIFIED:20260119T192553Z
UID:22633-1769022000-1769025600@bygdefolket.no
SUMMARY:Dametrim
DESCRIPTION:Hver onsdag mellom 19 og 20\, møtes en gjeng spreke damer på trening i gymsalen ved Brekken oppvekst- og lokalsenter. \n\n\n\nPå dametrimmen i gymsalen er damer i alle aldre velkomne. Den yngste er i tenårene\, og de eldste er over pensjonsalder. Felles for alle er godt humør og treningsglede!\nDet er ingen påmelding så det er bare å møte opp. Her blir du tatt imot med åpne armer. Ta med drikkeflaske og ullsokker (!) Treningsmatte og noe tungt å løfte på får du lånt\, dersom du ikke har det selv
URL:https://bygdefolket.no/single-post-name/dametrim-86/
LOCATION:Brekken skole\, Borgosveien 2\, Brekkebygd
CATEGORIES:Dametrim
ATTACH;FMTTYPE=image/jpeg:https://bygdefolket.no/wp-content/uploads/2025/08/Dametrim.-Foto-Nina-Konow.jpeg
END:VEVENT
BEGIN:VEVENT
DTSTART;TZID=UTC:20260121T190000
DTEND;TZID=UTC:20260121T200000
DTSTAMP:20260424T142213
CREATED:20260119T192553Z
LAST-MODIFIED:20260119T192553Z
UID:22633-1769022000-1769025600@bygdefolket.no
SUMMARY:Dametrim
DESCRIPTION:Hver onsdag mellom 19 og 20\, møtes en gjeng spreke damer på trening i gymsalen ved Brekken oppvekst- og lokalsenter. \n\n\n\nPå dametrimmen i gymsalen er damer i alle aldre velkomne. Den yngste er i tenårene\, og de eldste er over pensjonsalder. Felles for alle er godt humør og treningsglede!\nDet er ingen påmelding så det er bare å møte opp. Her blir du tatt imot med åpne armer. Ta med drikkeflaske og ullsokker (!) Treningsmatte og noe tungt å løfte på får du lånt\, dersom du ikke har det selv
URL:https://bygdefolket.no/single-post-name/dametrim-86/
LOCATION:Brekken skole\, Borgosveien 2\, Brekkebygd
CATEGORIES:Dametrim
ATTACH;FMTTYPE=image/jpeg:https://bygdefolket.no/wp-content/uploads/2025/08/Dametrim.-Foto-Nina-Konow.jpeg
END:VEVENT
BEGIN:VEVENT
DTSTART;TZID=UTC:20260121T190000
DTEND;TZID=UTC:20260121T200000
DTSTAMP:20260424T142213
CREATED:20260119T192553Z
LAST-MODIFIED:20260119T192553Z
UID:22633-1769022000-1769025600@bygdefolket.no
SUMMARY:Dametrim
DESCRIPTION:Hver onsdag mellom 19 og 20\, møtes en gjeng spreke damer på trening i gymsalen ved Brekken oppvekst- og lokalsenter. \n\n\n\nPå dametrimmen i gymsalen er damer i alle aldre velkomne. Den yngste er i tenårene\, og de eldste er over pensjonsalder. Felles for alle er godt humør og treningsglede!\nDet er ingen påmelding så det er bare å møte opp. Her blir du tatt imot med åpne armer. Ta med drikkeflaske og ullsokker (!) Treningsmatte og noe tungt å løfte på får du lånt\, dersom du ikke har det selv
URL:https://bygdefolket.no/single-post-name/dametrim-86/
LOCATION:Brekken skole\, Borgosveien 2\, Brekkebygd
CATEGORIES:Dametrim
ATTACH;FMTTYPE=image/jpeg:https://bygdefolket.no/wp-content/uploads/2025/08/Dametrim.-Foto-Nina-Konow.jpeg
END:VEVENT
END:VCALENDAR