BEGIN:VCALENDAR
VERSION:2.0
PRODID:-//Bygdefolket.no - ECPv6.15.20//NONSGML v1.0//EN
CALSCALE:GREGORIAN
METHOD:PUBLISH
X-ORIGINAL-URL:https://bygdefolket.no
X-WR-CALDESC:Arrangement for Bygdefolket.no
REFRESH-INTERVAL;VALUE=DURATION:PT1H
X-Robots-Tag:noindex
X-PUBLISHED-TTL:PT1H
BEGIN:VTIMEZONE
TZID:UTC
BEGIN:STANDARD
TZOFFSETFROM:+0000
TZOFFSETTO:+0000
TZNAME:UTC
DTSTART:20240101T000000
END:STANDARD
END:VTIMEZONE
BEGIN:VEVENT
DTSTART;TZID=UTC:20250416T190000
DTEND;TZID=UTC:20250416T210000
DTSTAMP:20260425T160807
CREATED:20250402T171143Z
LAST-MODIFIED:20250627T142007Z
UID:21068-1744830000-1744837200@bygdefolket.no
SUMMARY:Bingo på Kokkvollen
DESCRIPTION:Bingo på Kokkvollen onsdager kl 19:00
URL:https://bygdefolket.no/single-post-name/bingo-pa-kokkvollen-143/
LOCATION:Kokkvollen\, Aursundveien 2141\, Glåmos\, Trøndelag\, 7372\, Norge
CATEGORIES:Bingo
ATTACH;FMTTYPE=image/jpeg:https://bygdefolket.no/wp-content/uploads/2020/09/DSC_9083.jpg
END:VEVENT
BEGIN:VEVENT
DTSTART;TZID=UTC:20250416T190000
DTEND;TZID=UTC:20250416T210000
DTSTAMP:20260425T160807
CREATED:20250402T171143Z
LAST-MODIFIED:20250627T142007Z
UID:21068-1744830000-1744837200@bygdefolket.no
SUMMARY:Bingo på Kokkvollen
DESCRIPTION:Bingo på Kokkvollen onsdager kl 19:00
URL:https://bygdefolket.no/single-post-name/bingo-pa-kokkvollen-143/
LOCATION:Kokkvollen\, Aursundveien 2141\, Glåmos\, Trøndelag\, 7372\, Norge
CATEGORIES:Bingo
ATTACH;FMTTYPE=image/jpeg:https://bygdefolket.no/wp-content/uploads/2020/09/DSC_9083.jpg
END:VEVENT
BEGIN:VEVENT
DTSTART;TZID=UTC:20250416T190000
DTEND;TZID=UTC:20250416T210000
DTSTAMP:20260425T160807
CREATED:20250402T171143Z
LAST-MODIFIED:20250627T142007Z
UID:21068-1744830000-1744837200@bygdefolket.no
SUMMARY:Bingo på Kokkvollen
DESCRIPTION:Bingo på Kokkvollen onsdager kl 19:00
URL:https://bygdefolket.no/single-post-name/bingo-pa-kokkvollen-143/
LOCATION:Kokkvollen\, Aursundveien 2141\, Glåmos\, Trøndelag\, 7372\, Norge
CATEGORIES:Bingo
ATTACH;FMTTYPE=image/jpeg:https://bygdefolket.no/wp-content/uploads/2020/09/DSC_9083.jpg
END:VEVENT
BEGIN:VEVENT
DTSTART;TZID=UTC:20250416T190000
DTEND;TZID=UTC:20250416T210000
DTSTAMP:20260425T160807
CREATED:20250402T171143Z
LAST-MODIFIED:20250627T142007Z
UID:21068-1744830000-1744837200@bygdefolket.no
SUMMARY:Bingo på Kokkvollen
DESCRIPTION:Bingo på Kokkvollen onsdager kl 19:00
URL:https://bygdefolket.no/single-post-name/bingo-pa-kokkvollen-143/
LOCATION:Kokkvollen\, Aursundveien 2141\, Glåmos\, Trøndelag\, 7372\, Norge
CATEGORIES:Bingo
ATTACH;FMTTYPE=image/jpeg:https://bygdefolket.no/wp-content/uploads/2020/09/DSC_9083.jpg
END:VEVENT
END:VCALENDAR