BEGIN:VCALENDAR
VERSION:2.0
PRODID:-//Bygdefolket.no - ECPv6.15.20//NONSGML v1.0//EN
CALSCALE:GREGORIAN
METHOD:PUBLISH
X-ORIGINAL-URL:https://bygdefolket.no
X-WR-CALDESC:Arrangement for Bygdefolket.no
REFRESH-INTERVAL;VALUE=DURATION:PT1H
X-Robots-Tag:noindex
X-PUBLISHED-TTL:PT1H
BEGIN:VTIMEZONE
TZID:UTC
BEGIN:STANDARD
TZOFFSETFROM:+0000
TZOFFSETTO:+0000
TZNAME:UTC
DTSTART:20200101T000000
END:STANDARD
END:VTIMEZONE
BEGIN:VEVENT
DTSTART;TZID=UTC:20210316T173000
DTEND;TZID=UTC:20210316T183000
DTSTAMP:20260423T185927
CREATED:20210308T172907Z
LAST-MODIFIED:20210308T172907Z
UID:8197-1615915800-1615919400@bygdefolket.no
SUMMARY:Allidrett
DESCRIPTION:Allidrett er et tilbud til elver fra 3.trinn til 7.trinn i Brekken skolekrets.\nAllidrett har treninger annenhver uke i gymsalen Brekken skole.
URL:https://bygdefolket.no/single-post-name/allidrett-6/
LOCATION:Brekken skole\, Borgosveien 2\, Brekkebygd
CATEGORIES:Allidrett
END:VEVENT
END:VCALENDAR