BEGIN:VCALENDAR
VERSION:2.0
PRODID:-//Bygdefolket.no - ECPv6.15.20//NONSGML v1.0//EN
CALSCALE:GREGORIAN
METHOD:PUBLISH
X-WR-CALNAME:Bygdefolket.no
X-ORIGINAL-URL:https://bygdefolket.no
X-WR-CALDESC:Arrangement for Bygdefolket.no
REFRESH-INTERVAL;VALUE=DURATION:PT1H
X-Robots-Tag:noindex
X-PUBLISHED-TTL:PT1H
BEGIN:VTIMEZONE
TZID:UTC
BEGIN:STANDARD
TZOFFSETFROM:+0000
TZOFFSETTO:+0000
TZNAME:UTC
DTSTART:20210101T000000
END:STANDARD
END:VTIMEZONE
BEGIN:VEVENT
DTSTART;TZID=UTC:20220111T173000
DTEND;TZID=UTC:20220111T183000
DTSTAMP:20260423T031843
CREATED:20220109T110707Z
LAST-MODIFIED:20220109T111224Z
UID:12702-1641922200-1641925800@bygdefolket.no
SUMMARY:Allidrett
DESCRIPTION:Allidrett er et tilbud til elver fra 3.trinn til 7.trinn i Brekken skolekrets.\nAllidrett har treninger annenhver uke i gymsalen Brekken skole.
URL:https://bygdefolket.no/single-post-name/allidrett-10/
CATEGORIES:Allidrett
ATTACH;FMTTYPE=image/jpeg:https://bygdefolket.no/wp-content/uploads/2021/03/All-idrett-1024x683-1.jpg
END:VEVENT
BEGIN:VEVENT
DTSTART;TZID=UTC:20220125T173000
DTEND;TZID=UTC:20220125T183000
DTSTAMP:20260423T031843
CREATED:20220109T110837Z
LAST-MODIFIED:20220109T110837Z
UID:12706-1643131800-1643135400@bygdefolket.no
SUMMARY:Allidrett
DESCRIPTION:Allidrett er et tilbud til elver fra 3.trinn til 7.trinn i Brekken skolekrets.\n 	Allidrett har treninger annenhver uke i gymsalen Brekken skole.
URL:https://bygdefolket.no/single-post-name/allidrett-11/
CATEGORIES:Allidrett
ATTACH;FMTTYPE=image/jpeg:https://bygdefolket.no/wp-content/uploads/2021/03/All-idrett-1024x683-1.jpg
END:VEVENT
END:VCALENDAR