BEGIN:VCALENDAR
VERSION:2.0
PRODID:-//Bygdefolket.no - ECPv6.15.20//NONSGML v1.0//EN
CALSCALE:GREGORIAN
METHOD:PUBLISH
X-ORIGINAL-URL:https://bygdefolket.no
X-WR-CALDESC:Arrangement for Bygdefolket.no
REFRESH-INTERVAL;VALUE=DURATION:PT1H
X-Robots-Tag:noindex
X-PUBLISHED-TTL:PT1H
BEGIN:VTIMEZONE
TZID:UTC
BEGIN:STANDARD
TZOFFSETFROM:+0000
TZOFFSETTO:+0000
TZNAME:UTC
DTSTART:20200101T000000
END:STANDARD
END:VTIMEZONE
BEGIN:VEVENT
DTSTART;TZID=UTC:20210511T173000
DTEND;TZID=UTC:20210511T183000
DTSTAMP:20260423T141703
CREATED:20210427T203518Z
LAST-MODIFIED:20210506T171822Z
UID:9693-1620754200-1620757800@bygdefolket.no
SUMMARY:Allidrett
DESCRIPTION:Allidrett er et tilbud til elver fra 3.trinn til 7.trinn i Brekken skolekrets.\nAllidrett har treninger annenhver uke i gymsalen Brekken skole.
URL:https://bygdefolket.no/single-post-name/allidrett-9/
LOCATION:Brekken skole\, Borgosveien 2\, Brekkebygd
CATEGORIES:Allidrett
ATTACH;FMTTYPE=image/jpeg:https://bygdefolket.no/wp-content/uploads/2021/03/All-idrett-1024x683-1.jpg
END:VEVENT
END:VCALENDAR