BEGIN:VCALENDAR
VERSION:2.0
PRODID:-//Bygdefolket.no - ECPv6.15.20//NONSGML v1.0//EN
CALSCALE:GREGORIAN
METHOD:PUBLISH
X-ORIGINAL-URL:https://bygdefolket.no
X-WR-CALDESC:Arrangement for Bygdefolket.no
REFRESH-INTERVAL;VALUE=DURATION:PT1H
X-Robots-Tag:noindex
X-PUBLISHED-TTL:PT1H
BEGIN:VTIMEZONE
TZID:UTC
BEGIN:STANDARD
TZOFFSETFROM:+0000
TZOFFSETTO:+0000
TZNAME:UTC
DTSTART:20200101T000000
END:STANDARD
END:VTIMEZONE
BEGIN:VEVENT
DTSTART;TZID=UTC:20210105T173000
DTEND;TZID=UTC:20210105T183000
DTSTAMP:20260423T202602
CREATED:20201211T184602Z
LAST-MODIFIED:20210105T163620Z
UID:3305-1609867800-1609871400@bygdefolket.no
SUMMARY:Allidrett- avlyst
DESCRIPTION:Allidrett er et tilbud til elver fra 3.trinn til 7.trinn i Brekken skolekrets.  \n\n\n\nAllidrett har treninger annenhver uke i gymsalen Brekken skole.Fram til den 18. januar gjelder FHI´s retningslinjer vedrørende innendørs aktiviteter.
URL:https://bygdefolket.no/single-post-name/allidrett/
CATEGORIES:Allidrett
END:VEVENT
BEGIN:VEVENT
DTSTART;TZID=UTC:20210119T173000
DTEND;TZID=UTC:20210119T183000
DTSTAMP:20260423T202602
CREATED:20201211T184704Z
LAST-MODIFIED:20210105T203301Z
UID:3368-1611077400-1611081000@bygdefolket.no
SUMMARY:Allidrett
DESCRIPTION:Allidrett er et tilbud til elver fra 3.trinn til 7.trinn i Brekken skolekrets.  \n\n\n\nAllidrett har treninger annenhver uke i gymsalen Brekken skole.
URL:https://bygdefolket.no/single-post-name/allidrett-2/
CATEGORIES:Allidrett
END:VEVENT
END:VCALENDAR