BEGIN:VCALENDAR
VERSION:2.0
PRODID:-//Bygdefolket.no - ECPv6.15.20//NONSGML v1.0//EN
CALSCALE:GREGORIAN
METHOD:PUBLISH
X-WR-CALNAME:Bygdefolket.no
X-ORIGINAL-URL:https://bygdefolket.no
X-WR-CALDESC:Arrangement for Bygdefolket.no
REFRESH-INTERVAL;VALUE=DURATION:PT1H
X-Robots-Tag:noindex
X-PUBLISHED-TTL:PT1H
BEGIN:VTIMEZONE
TZID:UTC
BEGIN:STANDARD
TZOFFSETFROM:+0000
TZOFFSETTO:+0000
TZNAME:UTC
DTSTART:20240101T000000
END:STANDARD
END:VTIMEZONE
BEGIN:VEVENT
DTSTART;TZID=UTC:20251110T183000
DTEND;TZID=UTC:20251110T193000
DTSTAMP:20260425T105717
CREATED:20251102T182939Z
LAST-MODIFIED:20251102T183303Z
UID:22419-1762799400-1762803000@bygdefolket.no
SUMMARY:Allidrett for damer
DESCRIPTION:Annenhver mandag kl. 18:30 – 19:30 møtes voksne damer til allidrett i gymsalen i Brekken.\nHer er det fokus på uhøytidelig og lavterskel trim med høy gledefaktor! Aktiviteter kan f.eks være kanonball\, volleyball\, bandy\, elefantball\, hinderløype og alt annet som passer inn i typisk allidrett. \nFørste dag blir mandag 10. november\, og så annenhver mandag utover året.\nDet er ingen påmelding eller betaling\, så ta en tur innom for å sjekke ut om dette kan være noe for deg. \n  \nHar du Facebook så finner du mer informasjon på gruppa Allidrett for damer\, Brekken. \nVelkommen til ei artig og uhøytidelig trimøkt!
URL:https://bygdefolket.no/single-post-name/allidrett-for-damer/
CATEGORIES:Allidrett for voksne damer
ATTACH;FMTTYPE=image/jpeg:https://bygdefolket.no/wp-content/uploads/2020/11/IMG_20201104_194321-scaled.jpg
END:VEVENT
BEGIN:VEVENT
DTSTART;TZID=UTC:20251110T183000
DTEND;TZID=UTC:20251110T193000
DTSTAMP:20260425T105717
CREATED:20251102T182939Z
LAST-MODIFIED:20251102T183303Z
UID:22419-1762799400-1762803000@bygdefolket.no
SUMMARY:Allidrett for damer
DESCRIPTION:Annenhver mandag kl. 18:30 – 19:30 møtes voksne damer til allidrett i gymsalen i Brekken.\nHer er det fokus på uhøytidelig og lavterskel trim med høy gledefaktor! Aktiviteter kan f.eks være kanonball\, volleyball\, bandy\, elefantball\, hinderløype og alt annet som passer inn i typisk allidrett. \nFørste dag blir mandag 10. november\, og så annenhver mandag utover året.\nDet er ingen påmelding eller betaling\, så ta en tur innom for å sjekke ut om dette kan være noe for deg. \n  \nHar du Facebook så finner du mer informasjon på gruppa Allidrett for damer\, Brekken. \nVelkommen til ei artig og uhøytidelig trimøkt!
URL:https://bygdefolket.no/single-post-name/allidrett-for-damer/
CATEGORIES:Allidrett for voksne damer
ATTACH;FMTTYPE=image/jpeg:https://bygdefolket.no/wp-content/uploads/2020/11/IMG_20201104_194321-scaled.jpg
END:VEVENT
END:VCALENDAR